BEGIN:VCALENDAR
VERSION:2.0
PRODID:-//Agencja koncertowo-wydawnicza SOLO - ECPv6.7.0//NONSGML v1.0//EN
CALSCALE:GREGORIAN
METHOD:PUBLISH
X-WR-CALNAME:Agencja koncertowo-wydawnicza SOLO
X-ORIGINAL-URL:https://agencjasolo.pl
X-WR-CALDESC:Wydarzenia dla Agencja koncertowo-wydawnicza SOLO
REFRESH-INTERVAL;VALUE=DURATION:PT1H
X-Robots-Tag:noindex
X-PUBLISHED-TTL:PT1H
BEGIN:VTIMEZONE
TZID:UTC
BEGIN:STANDARD
TZOFFSETFROM:+0000
TZOFFSETTO:+0000
TZNAME:UTC
DTSTART:20240101T000000
END:STANDARD
END:VTIMEZONE
BEGIN:VEVENT
DTSTART;TZID=UTC:20240930T190000
DTEND;TZID=UTC:20240930T213000
DTSTAMP:20260421T224428
CREATED:20240925T111445Z
LAST-MODIFIED:20241008T212800Z
UID:852-1727722800-1727731800@agencjasolo.pl
SUMMARY:Finał 66.Września Jeleniogórskiego
DESCRIPTION:Wydarzenie obejmie uroczyste przeniesienie odrestaurowanej po 20 latach\, będącej jedną z wizytówek Jeleniej Góry\, rzeźby Don Kichota\, autorstwa znanego artysty Vahana Bego. Stanie ona w centrum miasta\, w reprezentacyjnym miejscu\, na skwerze obok Baszty Grodzkiej. \n \nUroczystość rozpocznie się multimedialną\, teatralną podróżą w czasie i przestrzeni – paradą uliczną „Siła Patyny”\, która wyruszy spod Kościoła pw. Podwyższenia Krzyża Świętego. \n\nPROGRAM:\n\n\n30.09.2024r. ( poniedziałek )\ngodz. 18:30\nMultimedialna Teatralna Podróż w czasie i przestrzeni – spektakl uliczny „Siła Patyny” – Interdyscyplinarna Grupa Teatralna ASOCJACJA 2006 (Poznań)\nMiejsce: Plac przy Kościele Garnizonowym\, ul. 1 Maja\, ul. Konopnickiej\, Plac Ratuszowy\n\n\nSpektakl dedykowany Miastu Jelenia Góra\, w reżyserii Piotra Tetlaka\, powstały we współpracy z Fundacją Asocjacja 2006 i Uniwersytetem Artystycznym w Poznaniu. Widowisko porusza ważne zagadnienia związane z ochroną środowiska\, z wykorzystaniem unikatowej techniki recyklingu.\nParada będzie nagrywana i transmitowana na stronie internetowej\, aby każdy mógł uczestniczyć w Finale 66. Września Jeleniogórskiego. Dodatkowo będą wyświetlane napisy dla osób z niepełnosprawnością słuchu..\nPodczas przemarszu parada/spektakl „Siła Patyny” spotka się z kolorową paradą aktorów\, performerów i szczudlarzy w strojach z epoki\, w specjalnie przygotowanym na tę okazję widowisku „Wędrówka Don Kichota”\, w wykonaniu Teatru KTO z Krakowa\, pod reżyserią Jerzego Zonia.\n\n\n\n\ngodz.19:00\nParada teatralna „Wędrówka Don Kichota” – Teatr KTO ( Kraków )\nMiejsce: Jelenia Gora\, ul 1 Maja/Pocztowa ( obok rzeźby Porwanie Europy )\, Konopnickiej\, Plac Ratuszowy.\n\n\nSerdecznie zapraszamy wszystkich chętnych do udziału w niezwykłej paradzie teatralno-tanecznej\, wspólnie z Teatrem KTO z Krakowa\, by razem stworzyć niezapomniane widowisko. Wraz z aktorami\, szczudlarzami\, tancerzami\, stwórzmy wspólny energetyczny taniec\, który ożywi ulice w rytmach inspirowanych duchem Hiszpanii. Dołącz do nas i przeżyj niezapomnianą przygodę w rytmach tańca\, muzyki i teatralnej ekspresji.\n\n\n\n\n\ngodz. 19:30\nSpektakl „Don Kichot” – Teatr HoM (Tychy )\nMiejsce: Plac Ratuszowy\n\n\n„ Don Kichot ” – monumentalne widowisko plenerowe z muzyką na żywo w wykonaniu mistrza flamenco Michała Czachowskiego oraz saksofonisty Michała Sosny\, opowiadający o tym\, jak dziś świat traktuje wyobcowanych marzycieli pokroju Don Kichota? Na jaki los może liczyć w patriarchalnej społeczności\, bynajmniej nie będąca wzorem cnót niewieścich” Dulcynea?\n\n\n\ngodz. 20:30\nOficjalne odsłonięcie odrestaurowanej rzeźby „Don Kichot i Sancho Pansa” – Vahan Bego\nMiejsce: skwer obok Baszty Grodzkiej\n\n\n  \nPomimo trudnych chwil\, przez które przechodzimy\, musimy wspólnie iść naprzód. W tych momentach sztuka i kultura mają niezwykłą moc dawania wsparcia\, podnoszenia na duchu i przypominania\, że nawet w obliczu tragedii\, możemy znaleźć siłę\, by tworzyć\, dzielić się pięknem i na chwilę oderwać się od codziennych trosk. \nZapraszamy serdecznie\, by razem z nami\, w duchu jedności i nadziei\, wziąć udział w wydarzeniach finałowych 66. Września Jeleniogórskiego. \n  \n \n \n—————–
URL:https://agencjasolo.pl/wydarzenie/final-66-wrzesnia-jeleniogorskiego/
LOCATION:dolnośląskie
CATEGORIES:ARCHIWALNE - FESTIWAL,ARCHIWALNE - SPEKTAKL
ATTACH;FMTTYPE=image/jpeg:https://agencjasolo.pl/wp-content/uploads/2024/09/wrzecien-66.jpg
END:VEVENT
END:VCALENDAR