BEGIN:VCALENDAR
VERSION:2.0
PRODID:-//Agencja koncertowo-wydawnicza SOLO - ECPv6.7.0//NONSGML v1.0//EN
CALSCALE:GREGORIAN
METHOD:PUBLISH
X-WR-CALNAME:Agencja koncertowo-wydawnicza SOLO
X-ORIGINAL-URL:https://agencjasolo.pl
X-WR-CALDESC:Wydarzenia dla Agencja koncertowo-wydawnicza SOLO
REFRESH-INTERVAL;VALUE=DURATION:PT1H
X-Robots-Tag:noindex
X-PUBLISHED-TTL:PT1H
BEGIN:VTIMEZONE
TZID:UTC
BEGIN:STANDARD
TZOFFSETFROM:+0000
TZOFFSETTO:+0000
TZNAME:UTC
DTSTART:20240101T000000
END:STANDARD
END:VTIMEZONE
BEGIN:VEVENT
DTSTART;TZID=UTC:20241123T000000
DTEND;TZID=UTC:20241126T000000
DTSTAMP:20260421T204630
CREATED:20241115T161534Z
LAST-MODIFIED:20241211T222457Z
UID:918-1732320000-1732579200@agencjasolo.pl
SUMMARY:WARSZTATY GITAROWE w ramach JGJ FESTIVAL-Jeleniogórskie Gwiazdy Jazzu
DESCRIPTION:Agencja Koncertowo-Wydawnicza SOLO\, zaprasza wszystkich miłośników gitary na wyjątkowe warsztaty gitarowe\, które odbędą się w ramach tegorocznego jubileuszowego XV JGJ FESTIVAL – Jeleniogórskie Gwiazdy Jazzu. \nSpotkania poprowadzą dwaj wybitni gitarzyści\, Marek Napiórkowski i Artur Lesicki\, cenieni na scenie jazzowej i rozrywkowej znani z unikalnego stylu oraz mistrzowskiego warsztatu artyści. To niepowtarzalna okazja\, aby poszerzyć swoje umiejętności\, zdobyć inspirację  pod okiem prawdziwych mistrzów. \nWarsztaty są bezpłatne\, a liczba miejsc ograniczona. \nZgłoszenia wraz z imieniem i nazwiskiem\, rokiem urodzenia pod adresem e-mail: \naglownia@agencjasolo.pl \n  \nPLAN WARSZTATÓW \n📅 Data: 23.11.2024 r. \n📍 Miejsce: Filharmonia Dolnośląska w Jeleniej Górze \n🕑Godz: 13:00 – 17:30 \nProwadzenie: ARTUR LESICKI \n“GUITAR MEETING” Innowacyjny kurs – skondensowana wiedza \n  \n📅 Data: 26.11.2024 r. \n📍 Miejsce: Filharmonia Dolnośląska w Jeleniej Górze \n🕒Godz: 15:00 – 18:00 \nProwadzenie: MAREK NAPIÓRKOWSKI \n” KLINIKA GITAROWA” Warsztaty gitarowe dla każdego\, na wszelkich poziomach zaawansowania \nWarsztaty gitarowe odbywają się pod honorowym patronatem Prezydenta Miasta  Jeleniej Góry Jerzego Łużniaka i zostały dofinansowane przez Miasto Jelenia Góra. \nZAPRASZAMY \n   \n 
URL:https://agencjasolo.pl/wydarzenie/warsztaty-gitarowe-w-ramach-jgj-festival-jeleniogorskie-gwiazdy-jazzu/
LOCATION:Filharmonia Dolnośląska w Jeleniej Górze\, ul. Piłsudskiego 60\, Jelenia Góra\, Polska\, 58-500\, Polska
CATEGORIES:ARCHIWALNE - WARSZTATY
ATTACH;FMTTYPE=image/jpeg:https://agencjasolo.pl/wp-content/uploads/2024/11/warszaty_gitarowe_24.jpg
ORGANIZER;CN="Agencja Koncertowo-Wydawnicza SOLO Aleksandra G%C5%82ownia":MAILTO:aglownia@agencjasolo.pl
END:VEVENT
END:VCALENDAR