BEGIN:VCALENDAR
VERSION:2.0
PRODID:-//Agencja koncertowo-wydawnicza SOLO - ECPv6.7.0//NONSGML v1.0//EN
CALSCALE:GREGORIAN
METHOD:PUBLISH
X-WR-CALNAME:Agencja koncertowo-wydawnicza SOLO
X-ORIGINAL-URL:https://agencjasolo.pl
X-WR-CALDESC:Wydarzenia dla Agencja koncertowo-wydawnicza SOLO
REFRESH-INTERVAL;VALUE=DURATION:PT1H
X-Robots-Tag:noindex
X-PUBLISHED-TTL:PT1H
BEGIN:VTIMEZONE
TZID:UTC
BEGIN:STANDARD
TZOFFSETFROM:+0000
TZOFFSETTO:+0000
TZNAME:UTC
DTSTART:20240101T000000
END:STANDARD
END:VTIMEZONE
BEGIN:VEVENT
DTSTART;TZID=UTC:20241231T200000
DTEND;TZID=UTC:20241231T220000
DTSTAMP:20260421T163106
CREATED:20241211T221746Z
LAST-MODIFIED:20250331T110922Z
UID:925-1735675200-1735682400@agencjasolo.pl
SUMMARY:Koncert Sylwestrowy – Tango with Bond
DESCRIPTION:Sylwestrowy koncert przeniesie Cię w fascynujący świat intrygi i najsłynniejszego brytyjskiego agenta – Jamesa Bonda! \nTo oryginalna mieszanka muzyki\, tańca i kultowych motywów z filmów o Bondzie\, elementów w aranżacjach Hadriana Tabęckiego. \nWydarzenie to poza ramami tradycyjnego koncertu – to spektakularne wydarzenia\, które wprowadzają do filmowej historii\, wzbogacone efektownymi wizualizacjami i ciekawostkami o postaci Bonda.  \nPubliczność zwraca uwagę na tematy muzyczne w wykonaniu polskich wokalistów: Natalii Sikory\, Anny Ozner\, Lali Czaplickiej i Macieja Moszyńskiego. Poezję zaprezentują Maria Adamska\, Katarzyna Baran\, Tadeusz Wnuk i Jakub Głukowski\, aktorzy z Teatru im. Cypriana Kamila Norwida w Jeleniej Górze. \nNie występują również akcenty tanecznych – historia z szpiegowską nutą i romantycznymi motywami zaprezentują Natalia Jóźwiak\, Sebastian Piotrowicz i Jakub Piotrowicz\, dodając głębi temu niezwykłemu spektaklowi. \nZ orkiestrą TANGO ATTACK artyści stworzą niezapomnianą atmosferę\, wprowadzając do filmowego świata Bonda i dostarczając niezrównane funkcje oraz pełne prędkości chwilowe. \nW skład zespołu wchodzą wirtuozi w swoich dziedzinach:\nGrzegorz Bożewicz – bandoneon i akordeon\,\nPiotr Malicki – gitara akustyczna i elektryczna\,\nHadrian Filip Tabęcki – fortepian i aranżacje.\nSpecjalnie do tego projektu doangażowani są znakomici goście-instrumentaliści:\nAnna Konrad – skrzypce\,\nIzabela Buchowska – wiolonczela\,\nMaciej Szczyciński – bass\,\nPiotr Maślanka – perkusja. \nHarmonogram wydarzenia:\ngodz. 20:00 – koncert I cz.\ngodz. 20:45 – przerwa na szampana\ngodz. 21:15 – koncert II cz.\ngodz: 22:00 – zakończenie \nBilety do nabycia:\n– www.kupbilecik.pl\,\n– www.kulturairozrywka.pl\,\n– kasa Teatru Norwida w Jeleniej Górze
URL:https://agencjasolo.pl/wydarzenie/koncert-sylwestrowy-2024-tango-with-bond/
LOCATION:Teatr im. Cypriana Kamila Norwida w Jeleniej Górze\, Al. Wojska Polskiego 38\, Jelenia Góra\, dolnośląskie\, 58-500\, Polska
CATEGORIES:ARCHIWALNE - KONCERT
ATTACH;FMTTYPE=image/jpeg:https://agencjasolo.pl/wp-content/uploads/2024/12/Sylwester-z-Bnondem24_Solo.jpg
ORGANIZER;CN="Agencja Koncertowo-Wydawnicza SOLO Aleksandra G%C5%82ownia":MAILTO:aglownia@agencjasolo.pl
END:VEVENT
END:VCALENDAR