BEGIN:VCALENDAR
VERSION:2.0
PRODID:-//Agencja koncertowo-wydawnicza SOLO - ECPv6.7.0//NONSGML v1.0//EN
CALSCALE:GREGORIAN
METHOD:PUBLISH
X-WR-CALNAME:Agencja koncertowo-wydawnicza SOLO
X-ORIGINAL-URL:https://agencjasolo.pl
X-WR-CALDESC:Wydarzenia dla Agencja koncertowo-wydawnicza SOLO
REFRESH-INTERVAL;VALUE=DURATION:PT1H
X-Robots-Tag:noindex
X-PUBLISHED-TTL:PT1H
BEGIN:VTIMEZONE
TZID:UTC
BEGIN:STANDARD
TZOFFSETFROM:+0000
TZOFFSETTO:+0000
TZNAME:UTC
DTSTART:20250101T000000
END:STANDARD
END:VTIMEZONE
BEGIN:VEVENT
DTSTART;TZID=UTC:20251108T190000
DTEND;TZID=UTC:20251110T210000
DTSTAMP:20260420T220920
CREATED:20250804T104140Z
LAST-MODIFIED:20260109T090014Z
UID:965-1762628400-1762808400@agencjasolo.pl
SUMMARY:MUZYKA ŻYDÓW POLSKICH
DESCRIPTION:VADIM BRODSKI w koncercie „Muzyka Żydów Polskich”  \n-niezwykła podróż przez bogactwo muzycznych tradycji żydowskich \n  \nGDAŃSK \ndata:  08.11.2025 r.\, godz. 19:00 \nmiejsce: Gdański Teatr Szekspirowski \nbilety do nabycia: Gdański Teatr Szekspirowski\,  kupbilecik.pl\, kulturairozrywka.pl\, biletyna.pl \nKoncert odbywa się po honorowym patronatem Senatora Bogdana Borusewicza. \n  \nSZCZECIN \ndata:  09.11.2025 r.\, godz. 19:00 \nmiejsce: Filharmonia im. Mieczysława Karłowicza \nbilety do nabycia: biletomat.pl\, kupbilecik.pl\, kulturairozrywka.pl\, biletyna.pl \n  \nZIELONA GÓRA \ndata:  10.11.2025 r.\, godz. 19:00 \nmiejsce: Filharmonia Zielonogórska im. Tadeusza Bairda \nbilety do nabycia: abilet.pl\, kupbilecik.pl\, kulturairozrywka.pl\, biletyna.pl \n  \n  \nVADIM BRODSKI w koncercie „Muzyka Żydów Polskich”  \nKoncert stanowi hołd dla historii i dziedzictwa Żydów Polskich\, przywołując ich bogatą tradycję muzyczną i kulturową.  \nKoncert pełen magii dźwięków\, emocji i historii\, poświęcony twórczości wybitnych kompozytorów polskich pochodzenia żydowskiego\, takich jak: Grzegorz Fitelberg\, Mieczysław Wajnberg\, Szymon Laks oraz Leopold Kozłowski\, w wykonaniu światowej sławy artystów i muzycznych  indywidualności\, których talenty muzyczne zachwycają publiczność na całym świecie. \nTo niepowtarzalna okazja\, by podziwiać wirtuozerię instrumentalistów i wysłuchać pięknych głosów wokalistów\, którzy ożywią muzyką kulturowe dziedzictwo Żydów polskich. Sentymentalne ballady\, klezmerskie melodie\, pełne energii tańce – wszystko to będzie można usłyszeć podczas tego wyjątkowego wydarzenia. \nKoncerty organizowane są w ramach 87.rocznicy Nocy Kryształowej \n  \nWystąpią: \nVADIM BRODSKI – skrzypce \nMARTA BIZOŃ – wokal \nMARTA MOŁODYŃSKA – WHEELER – fortepian \nWERONIKA IZABELLA STRUGAŁA – wiolonczela \nPIOTR LATO – klarnet \n  \nVadim BRODSKI – wybitny skrzypek. W swojej karierze otrzymał pierwsze nagrody na wszystkich międzynarodowych konkursach skrzypcowych\, w których uczestniczył: Międzynarodowy Konkurs Skrzypcowy im. Henryka Wieniawskiego (Polska 1977)\, Konkurs im. Paganiniego (Włochy 1984)\, Konkurs im. Tibora Vargi (Szwajcaria 1984). Koncertował z wieloma znakomitymi orkiestrami: Filharmonia Moskiewska\, Filharmonia Petersburska\, Filharmonia Narodowa w Warszawie\, Narodowa Orkiestra Symfoniczna Meksyku\, London Philharmonic Orchestra\, Jerozolimska Orkiestra Symfoniczna\, New Jersey Symphony\, Orchestre de la Suisse Romande w Genewie. \nMarta BIZOŃ – polska aktorka teatralna i filmowa\, znana z ról w filmach„ Lista Schindlera“\, „ Quo vadis“\, „ Majka“. Wyróżnienie za role Fioły Iwanowny w OŻENKU M. Gigola na XII Festiwalu Szkół Teatralnych\, 1994. Nagroda w Konkursie XVI Przeglądu Piosenki Aktorskiej we Wrocławiu\, 1995. Wyróżnienie w VI Konkursie Teatrów Ogródkowych w Warszawie\, 1997. Wyróżnienie za rolę w spektaklu “Wszystko o kobietach” na Ogólnopolskim Festiwalu Dramaturgii Współczesnej w Zabrzu\, 2006 Kraków – Nagroda Syzyfa “za ciężką\, ale i owocną pracę na rzecz środowiska”2007 i 2008. Nagroda aktorska  na XVII Ogólnopolskim Festiwalu Dramaturgii Współczesnej – “Rzeczywistość Przedstawiona” Zabrze 2017. \nMarta MOŁODYŃSKA-WHEELER\, pianistka\, kameralistka\, kompozytorka\, która z wyróżnieniem ukończyła Akademię Muzyczną w Krakowie w klasie fortepianu doc. Marka Koziaka oraz Akademię Muzyczną w Katowicach na Wydziale Jazzu i Muzyki Rozrywkowej w klasie Kompozycji i Aranżacji pod kierunkiem prof. Andrzeja Zubka. Ponadto absolwentka studiów na Wydziale Wokalno-Aktorskim Akademii Muzycznej w Krakowie pod kierunkiem dr hab. Katarzyny Oleś-Blacha. Ukończyła również z wyróżnieniem studia na wydziale Filologii Angielskiej Uniwersytetu Jagiellońskiego oraz Teacher Training College w Krakowie. W roku 2017 otrzymała stopień doktora sztuki w dziedzinie sztuk muzycznych\, dyscyplinie artystycznej instrumentalistyka\, a praca doktorska dotyczyła wpływu synestezji na interpretację utworów muzycznych. Ponadto\, w tym samym roku uzyskała stopień nauczyciela dyplomowanego (w specjalności fortepian).Jest autorem licznych kompozycji na fortepian solo oraz na 4 ręce\, utworów rozrywkowych na big band oraz orkiestrę smyczkową. Jako pianistka uczestniczy w wielu festiwalach muzycznych oraz jest akompaniatorem podczas licznych konkursów instrumentalnych i wokalnych na terenie całego kraju i za granicą. Obecnie jest pianistą-akompaniatorem i korepetytorem w Akademii Muzycznej w Krakowie. Współpracuje też z Operą Krakowską\, kilkoma zespołami muzyki kameralnej\, oraz jest nauczycielem gry na fortepianie w Szkole Muzycznej II st. im. W. Żeleńskiego w Krakowie. Co więcej\, współtworzy kilka zespołów rozrywkowych grających zarówno muzykę autorską\, jak i covery\, w których nie tylko gra\, ale również zajmuje się aranżacją. Występowała między innymi z Orkiestrą Symfoniczną Akademii Muzycznej w Krakowie\, Orkiestrą Opery Krakowskiej oraz Orkiestrą Symfoniczną Polskiego Radia. Dokonała też wielu nagrań\, m.in. z Orkiestrą Polskiego Radia w Warszawie\, utworów na 4 ręce (Na cztery dziecięce ręce\, PWM\, Kraków 2018) oraz swoich własnych (w tym niniejszego zbioru). Co więcej\, jest regularnie zapraszana do wielu nagrań płytowych zarówno przez muzyków klasycznych\, jak i rozrywkowych.Opublikowała swoje utwory na 4 ręce – Kalejdoskop (SMPK\, 2019) oraz Pandemony (PWM\, 2020)\, jak również artykuły: Podstawy improwizacji w kształceniu artystycznym („Konteksty kultury\, konteksty edukacji\, SPMK 2017) oraz Synestezja – implikacje praktyczne w pracy muzyka i anglisty („Synestezja a sztuka”\, Aureus 2016). Już wkrótce drukiem ukaże się również jej cykl miniatur fortepianowych na cztery ręce z elementami improwizacji zatytułowany Improwizje oraz cykl utworów na 4 ręce Poligrajk. \nPiotr LATO – klarnecista. Ukończył Akademię Muzyczną w Krakowie w klasie klarnetu prof. Andrzeja Godka z wynikiem celującym.Uzyskał szereg nagród i wyróżnień w konkursach muzycznych\, m.in. jest laureatem I nagrody w Ogólnopolskich Przesłuchaniach Szkół Muzycznych II st. klas instrumentów dętych drewnianych w Olsztynie (1996)\, III nagrody w XI Akademickim Konkursie Klarnetowym im. K. Kurpińskiego we Włoszakowicach (2000)\, oraz III nagrody w IV Międzynarodowym Konkursie Muzyki Kameralnej im. Johannesa Brahmsa w Gdańsku (2006). W 2002 roku został półfinalistą Międzynarodowego Konkursu Klarnetowego „Praska Wiosna” w Pradze a w 2003 zakwalifikował się i uczestniczył w Międzynarodowym Konkursie Klarnetowym ARD w Monachium.\nZa swoje osiągnięcia artystyczne i naukowe dwukrotnie otrzymał stypendium Ministra Kultury (2000-2002)\, Stypendium Twórcze Miasta Krakowa (2003)\, Odznaczenie Zasłużony dla Kultury Polskiej (2016)\, Nagrodę Dyrektora Centrum Edukacji Artystycznej – nagrodę indywidualną II stopnia za szczególny wkład w rozwój edukacji artystycznej w Polsce\, Nagrodę Województwa Małopolskiego „Ars Quaerendi” za wybitne działania na rzecz rozwoju i promocji kultury (2019)\, Odznaczenie Brązowy Krzyż Zasługi (2019).\nBrał udział w wielu festiwalach krajowych i zagranicznych: Międzynarodowy Festiwal Muzyczny Eurosilesia\, Międzynarodowy Festiwal Muzyka w Starym Krakowie\, Międzynarodowy Festiwal Pogranicza Muzyki Współczesnej\, Wielkanocny Festiwal Ludwiga van Beethovena\, Festiwal Youmg Euro Classic\, Międzynarodowy Festiwal Muzyki Współczesnej – 12 Dni Muzyki Kompozytorów Krakowskich\, Festiwal Polskiej Muzyki Współczesnej – Musica Polonica Nova\, Międzynarodowy Festiwal Muzyki Kameralnej „Muzyka na Szczytach” i innych. Był uczestnikiem wielu kursów klarnetowych\, m.in. kursu interpretacyjno – kompozytorskiego prowadzonego przez K. Stockhausena. Zrealizował szereg nagrań płytowych\, telewizyjnych i radiowych dla wytwórni krajowych i zagranicznych: DUX\, Centaur Reccord\, Le Foxx Music\, Universal Music i innych. Prowadzi działalność pedagogiczną w Państwowej Szkole Muzycznej II st. im. Władysława Żeleńskiego w Krakowie. Od 2006 roku był asystentem w klasie klarnetu prof. Andrzeja Godka w Akademii Muzycznej w Krakowie. W 2011 roku uzyskał stopień doktora sztuk muzycznych w zakresie dyscypliny artystycznej instrumentalistyka i został zatrudniony na stanowisku adiunkta.\nOd 2004 roku pełni funkcję pierwszego klarnecisty Orkiestry Akademii Beethovenowskiej. Gościnnie współpracuje z wieloma orkiestrami i zespołami\, równocześnie prowadząc działalność koncertową solową i kameralną. Jest członkiem Zarządu Stowarzyszenia Polskich Muzyków Kameralistów. W 2016 roku uzyskał stopień doktora habilitowanego sztuki. Jest artystą firm Henri Selmer Paris oraz MARCA Reeds
URL:https://agencjasolo.pl/wydarzenie/muzyka-zydow-polskich/
LOCATION:Szczecin\, Zielona Góra\, Gdańsk\, Szczecin\, Szczecin\, 71\, Poland
CATEGORIES:ARCHIWALNE - KONCERT
ATTACH;FMTTYPE=image/jpeg:https://agencjasolo.pl/wp-content/uploads/2025/08/Brodski-Vadim-photo.jpg
ORGANIZER;CN="Agencja Koncertowo-Wydawnicza SOLO Aleksandra G%C5%82ownia":MAILTO:aglownia@agencjasolo.pl
GEO:53.4285438;14.5528116
END:VEVENT
END:VCALENDAR