BEGIN:VCALENDAR
VERSION:2.0
PRODID:-//Agencja koncertowo-wydawnicza SOLO - ECPv6.7.0//NONSGML v1.0//EN
CALSCALE:GREGORIAN
METHOD:PUBLISH
X-ORIGINAL-URL:https://agencjasolo.pl
X-WR-CALDESC:Wydarzenia dla Agencja koncertowo-wydawnicza SOLO
REFRESH-INTERVAL;VALUE=DURATION:PT1H
X-Robots-Tag:noindex
X-PUBLISHED-TTL:PT1H
BEGIN:VTIMEZONE
TZID:UTC
BEGIN:STANDARD
TZOFFSETFROM:+0000
TZOFFSETTO:+0000
TZNAME:UTC
DTSTART:20260101T000000
END:STANDARD
END:VTIMEZONE
BEGIN:VEVENT
DTSTART;TZID=UTC:20260131T200000
DTEND;TZID=UTC:20260201T233000
DTSTAMP:20260420T160953
CREATED:20251206T083400Z
LAST-MODIFIED:20260303T193323Z
UID:1002-1769889600-1769988600@agencjasolo.pl
SUMMARY:POLSKA NOC KABARETOWA 2026
DESCRIPTION:POLSKA NOC KABARETOWA 2026 –  “SIEDMU WSPANIAŁYCH” \nSiedem gwiazd kabaretu!  Siedem premierowych skeczów!  Jeden niezapomniany wieczór! \n  \ndata: 31.01.2026 r.\nmiejsce: hala widowiskowo-sportowa Regionalne Centrum Sportowe w Lubinie\ngodz. 20:00-24:00 \n01.02.2026 r.\ndata: hala widowiskowo-sportowa PGE TURÓW ARENA w Zgorzelcu\ngodz.17:00-21:00 \nTo będzie wieczór\, jakiego jeszcze nie było! Na jednej scenie spotkają się prawdziwi giganci polskiego kabaretu – Kabaret Moralnego Niepokoju\, Kabaret Skeczów Męczących\, Kabaret Smile\, Kabaret Nowaki\, Kabaret K2\, a także niezrównani soliści Mariusz Kałamaga i Igor Kwiatkowski.\nSiedmiu wspaniałych artystów\, siedem zupełnie nowych premier\, jeden wyjątkowy spektakl pełen humoru\, energii i niespodzianek. \nPodczas Polskiej Nocy Kabaretowej 2026 zobaczycie specjalnie przygotowany program\, stworzony wyłącznie na tę trasę. Każdy z występujących zaprezentuje nowe\, premierowe skecze\, które jeszcze nigdy nie były grane na scenie. A to oznacza jedno – świeże żarty\, błyskotliwe pointy i nieprzewidywalne sytuacje\, które rozbawią Was do łez! \nW tym roku motywem przewodnim wydarzenia jest spotkanie mistrzów – artystów\, którzy od lat bawią miliony widzów w całej Polsce. Połączenie ich talentów gwarantuje wybuchową mieszankę humoru\, improwizacji i pozytywnej energii. \n Czeka Was wieczór pełen premierowych skeczów przygotowanych specjalnie na tę trasę\, wspólnych występów kabaretów\, które po raz pierwszy pojawią się razem na scenie\, muzycznych niespodzianek i interakcji z publicznością\, niezliczonych momentów śmiechu\, które zostaną w pamięci na długo. \nPrzygotujcie się na prawdziwe święto polskiego kabaretu – widowisko\, które zapisze się w historii jako jedno z najbardziej spektakularnych wydarzeń roku. \nJedno jest pewne:  \n! nikt nie wyjdzie z sali bez uśmiechu na twarzy ! \n  \nINFORMACJE ORGANIZACYJNE: \n– Widowisko PNK trwa 3\,5 h.\n– Sprawdź dokładnie\, czy masz przy sobie bilet\, najlepiej w wersji elektronicznej. Bilet okażesz do skanowania (podgląd na kod kreskowy).\n– Bramki otwieramy punktualnie godzinę przed startem imprezy.\n– Przypominamy o zakazie wnoszenia własnych produktów spożywczych i napojów (poza seryjnie zakręconymi\, w plastikowych butelkach\, o pojemności do 0\,5 l). \nW razie ewentualnych wątpliwości zapoznaj się z regulaminem: https://polskanockabaretowa.pl/regulamin-imprezy/.
URL:https://agencjasolo.pl/wydarzenie/polska-noc-kabaretowa-2026/
LOCATION:Regionalne Centrum Sportowe sp. z o.o\, ul. Odrodzenia 28 b\, Lubin\, dolnośląskie\, 59-300\, Polska
CATEGORIES:ARCHIWALNE - KABARET
ATTACH;FMTTYPE=image/jpeg:https://agencjasolo.pl/wp-content/uploads/2025/12/plakat_2026.jpg
ORGANIZER;CN="Agencja Koncertowo-Wydawnicza SOLO Aleksandra G%C5%82ownia":MAILTO:aglownia@agencjasolo.pl
END:VEVENT
END:VCALENDAR