BEGIN:VCALENDAR
VERSION:2.0
PRODID:-//Agencja koncertowo-wydawnicza SOLO - ECPv6.7.0//NONSGML v1.0//EN
CALSCALE:GREGORIAN
METHOD:PUBLISH
X-ORIGINAL-URL:https://agencjasolo.pl
X-WR-CALDESC:Wydarzenia dla Agencja koncertowo-wydawnicza SOLO
REFRESH-INTERVAL;VALUE=DURATION:PT1H
X-Robots-Tag:noindex
X-PUBLISHED-TTL:PT1H
BEGIN:VTIMEZONE
TZID:UTC
BEGIN:STANDARD
TZOFFSETFROM:+0000
TZOFFSETTO:+0000
TZNAME:UTC
DTSTART:20240101T000000
END:STANDARD
END:VTIMEZONE
BEGIN:VEVENT
DTSTART;TZID=UTC:20240606T190000
DTEND;TZID=UTC:20240606T200000
DTSTAMP:20260422T043649
CREATED:20240602T213659Z
LAST-MODIFIED:20240924T215656Z
UID:814-1717700400-1717704000@agencjasolo.pl
SUMMARY:20 lat Jeleniej Góry w Unii Europejskiej
DESCRIPTION:Obchody 20-lecia przystąpienia Polski do Unii Europejskiej są symbolicznym momentem w naszej historii. Stanowią znaczący moment w naszej historii\, który wymaga szczególnej uwagi i uroczystości. Ta historyczna rocznica ma dla nas szczególne znaczenie\, stanowiąc kamień milowy w drodze Polski do europejskiej integracji. Jest hołdem dla historycznego wydarzenia\, które wyznaczyło nową erę dla naszego kraju oraz okazją do refleksji nad dokonaniami i wyzwaniami jakie niesie za sobą członkostwo w Unii Europejskiej. To moment celebracji naszej tożsamości europejskiej oraz szansa do podkreślenia wspólnych wartości i celów\, które łączą nas z resztą państw Unii Europejskiej. \nObchody „20 lat Jeleniej Góry w Unii Europejskiej”\, będą hołdem dla różnorodności i bogactwa kulturowego Unii Europejskiej\, ale także platformą do budowania więzi społecznych\, promowania dialogu międzykulturowego\, promocją wielokulturowości i wzajemnego zrozumienia\, które są fundamentem Unii Europejskiej.\nPatronat honorowy nad wydarzeniami objął Prezydent Miasta Jeleniej Góry Jerzy Łużniak.\n \n \n  \nW ramach wydarzenia w dniu 6 czerwca (czwartek) o godz.19:00\, w Muszli Koncertowej w Parku Zdrojowym w Cieplicach rozpocznie się koncert “Muzyka bez granic”\, z udziałem wykonawców z państw Unii Europejskiej. Wystąpią znakomici artyści: Anna Ozner\, Kinga Rataj\, Magda Navarette\, Chris Schittulli\, Andreas Martorell\, Krzysztof Langer. Artystom towarzyszyć będzie zespół Tango Attacka pod kierownictwem muzycznym Hadriana Tabęckiego. W programie wybrzmią znane przeboje państw europejskich pochodzących z Włoch\, Hiszpanii\, Czech\, Francji\, Grecji\, Portugalii i Polski. \n==\n7 czerwca (piątek) o godz.17:00\, na Skwerze Niezależnego Związku Studentów (tereny zielone za Politechniką Wrocławską w Cieplicach) odbędzie się “Debata Europejska”\, z udziałem osobistości ze świata kultury\, mediów\, biznesu\, polityki\, by porozmawiać na temat zmian jakie zaszły w Polsce w ciągu ostatnich 20 lat. Do udziału w tym spotkaniu zaprosiliśmy:\nMałgorzatę Potocką – aktorka\, reżysera\, producentka filmowa\nZofię Czernow – posłanka na Sejm RP\nVadima Brodskiego – wirtuoz skrzypiec\nBogusława Chrabotę – dziennikarz\, pisarz\, redaktor naczelny Tygodnika „Rzeczpospolita”\nMarcina Zawiłę – senator RP\nJerzego Łużniaka – Prezydent Miasta Jeleniej Góry\nJarosława Dudę – europoseł \n==\nPATRONAT HONOROWY NAD WYDARZENIAMI: \n \nSPONSOR:\n\n \n== \nORGANIZATORZY: \n\n\n\n\n\n\n\nOrganizatorzy: Agencja Koncertowo-Wydawnicza SOLO
URL:https://agencjasolo.pl/wydarzenie/20-lat-jeleniej-gory-w-unii-europejskiej/
LOCATION:dolnośląskie
CATEGORIES:ARCHIWALNE - KONCERT,ARCHIWALNE - WYKŁAD
ATTACH;FMTTYPE=image/jpeg:https://agencjasolo.pl/wp-content/uploads/2024/06/plakat-20-lat-JG-w-UE_mini.jpg
ORGANIZER;CN="Agencja Koncertowo-Wydawnicza SOLO Aleksandra G%C5%82ownia":MAILTO:aglownia@agencjasolo.pl
END:VEVENT
END:VCALENDAR