BEGIN:VCALENDAR
VERSION:2.0
PRODID:-//Agencja koncertowo-wydawnicza SOLO - ECPv6.7.0//NONSGML v1.0//EN
CALSCALE:GREGORIAN
METHOD:PUBLISH
X-ORIGINAL-URL:https://agencjasolo.pl
X-WR-CALDESC:Wydarzenia dla Agencja koncertowo-wydawnicza SOLO
REFRESH-INTERVAL;VALUE=DURATION:PT1H
X-Robots-Tag:noindex
X-PUBLISHED-TTL:PT1H
BEGIN:VTIMEZONE
TZID:UTC
BEGIN:STANDARD
TZOFFSETFROM:+0000
TZOFFSETTO:+0000
TZNAME:UTC
DTSTART:20240101T000000
END:STANDARD
END:VTIMEZONE
BEGIN:VEVENT
DTSTART;TZID=UTC:20241006T170000
DTEND;TZID=UTC:20241006T213000
DTSTAMP:20260421T205338
CREATED:20240926T072702Z
LAST-MODIFIED:20241008T212740Z
UID:871-1728234000-1728250200@agencjasolo.pl
SUMMARY:Polska Noc Kabaretowa 2024
DESCRIPTION:Polska Noc Kabaretowa 2024 – największe widowisko kabaretowe w Polsce wraca do Twojego miasta! \nSą gibcy\, są silni\, są w olimpijskiej formie! \nPrzybywamy do Was z najbardziej wysportowaną kabaretową ekipą wszech czasów. Po miesiącach treningów\, wycieńczających obozów szkoleniowych i niekończących się przygotowań przedstawiamy program pobijający wszystkie rekordy świata. Będziecie śmiać się najgłośniej\, wzdychać z zachwytu niezliczoną liczbę razy\, bawić się do utraty tchu. Mamy zamiar pokazać Wam kabaretowy program na miarę igrzysk olimpijskich. Łucznicza celność żartów. Sprinterska szybkość reakcji. Gimnastyczna elastyczność interakcji z publicznością. Szachowa mądrość puent. Wielobojowy dobór tematów. Jednym słowem mamy wszystko\, aby zdobyć olimpijski szczyt. \nPrzed Wami: Kabaret Skeczów Męczących\, Kabaret K2\, Kabaret Moralnego Niepokoju\, Kabaret Paranienormalni\, Kabaret Smile\, Szymon Łątkowski i w roli prowadzących – Kabaret Nowaki. \nSztafeta najlepszych kabaretowych zawodników w największym maratonie śmiechu. \nA co najlepsze – uczestnicząc w Polskiej Nocy Kabaretowej będziesz śmiać się tak bardzo\, że sam wyjdziesz z niej jak po niezłym treningu! \nBilety: kasa RCS\, www.kulturairozrywka.pl\, www.kupbilecik.pl\, www.biletynakabarety.pl \nINFORMACJE ORGANIZACYJNE:\n• Wydarzenie trwa około 3\,5h (w tym 15min przerwa)\n• Prosimy o sprawdzenie\, czy maja Państwo poprawnie wydrukowane bilety.\n• Bramki otwierane są punktualnie na godzinę przed startem imprezy.\n• Na wydarzenie można zabrać wyłącznie seryjnie zakręconą (0\,5l) wodę w plastikowej butelce. Podczas wydarzenia udostępniane są punkty gastronomiczne. \n 
URL:https://agencjasolo.pl/wydarzenie/polska-noc-kabaretowa-2024/
LOCATION:Regionalne Centrum Sportowe sp. z o.o\, ul. Odrodzenia 28 b\, Lubin\, dolnośląskie\, 59-300\, Polska
CATEGORIES:ARCHIWALNE - KABARET
ATTACH;FMTTYPE=image/jpeg:https://agencjasolo.pl/wp-content/uploads/2024/09/pnk24.jpg
ORGANIZER;CN="Agencja Koncertowo-Wydawnicza SOLO Aleksandra G%C5%82ownia":MAILTO:aglownia@agencjasolo.pl
END:VEVENT
END:VCALENDAR