BEGIN:VCALENDAR
VERSION:2.0
PRODID:-//Agencja koncertowo-wydawnicza SOLO - ECPv6.7.0//NONSGML v1.0//EN
CALSCALE:GREGORIAN
METHOD:PUBLISH
X-WR-CALNAME:Agencja koncertowo-wydawnicza SOLO
X-ORIGINAL-URL:https://agencjasolo.pl
X-WR-CALDESC:Wydarzenia dla Agencja koncertowo-wydawnicza SOLO
REFRESH-INTERVAL;VALUE=DURATION:PT1H
X-Robots-Tag:noindex
X-PUBLISHED-TTL:PT1H
BEGIN:VTIMEZONE
TZID:UTC
BEGIN:STANDARD
TZOFFSETFROM:+0000
TZOFFSETTO:+0000
TZNAME:UTC
DTSTART:20250101T000000
END:STANDARD
END:VTIMEZONE
BEGIN:VEVENT
DTSTART;TZID=UTC:20251005T170000
DTEND;TZID=UTC:20251005T210000
DTSTAMP:20260420T221257
CREATED:20250331T111818Z
LAST-MODIFIED:20251023T074859Z
UID:947-1759683600-1759698000@agencjasolo.pl
SUMMARY:POLSKA NOC KABARETOWA 2025
DESCRIPTION:Polska Noc Kabaretowa 2025 – największe widowisko kabaretowe w kraju!\n\nPolska Noc Kabaretowa 2025 – Królestwo za uśmiech! \nW 2025 roku zapraszamy Was do królestwa uśmiechu!\nPrzygotujcie się na prawdziwą ucztę humoru\, bo na naszej scenie wystąpią giganci polskiej sceny kabaretowej: Kabaret Skeczów Męczących\, Kabaret Nowaki\, Kabaret Młodych Panów\, Kabaret Smile\, Igor Kwiatkowski\, Kabaret K2\, Ewa Błachnio! A całość poprowadzi niepowtarzalny Bartosz Klauzinski. \nGwarantujemy\, że ta królewska obsada rozbawi Was do łez! \nZakładajcie korony uśmiechu i dołączcie do nas na największym kabaretowym wydarzeniu roku! Przekonajcie się sami\, jak wielką wartość ma uśmiech w Waszym życiu. \nPolska Noc Kabaretowa 2025 – czekamy na Was! \n______________________ \nINFORMACJE ORGANIZACYJNE: \nWszystkie informacje organizacyjne na temat Twojej PNK znajdziesz na podstronie danego wydarzenia\, po kliknięciu w KUB BILET obok swojego terminu.\n– Widowisko PNK trwa 3\,5 h.\n– Sprawdź dokładnie\, czy masz przy sobie bilet\, najlepiej w wersji elektronicznej.\nBilet okażesz do skanowania (podgląd na kod kreskowy).\n– Bramki otwieramy punktualnie godzinę przed startem imprezy.\n– Przypominamy o zakazie wnoszenia własnych produktów spożywczych i napojów\n(poza seryjnie zakręconymi\, w plastikowych butelkach\, o pojemności do 0\,5 l).\nW razie ewentualnych wątpliwości zapoznaj się z regulaminem:\nhttps://polskanockabaretowa.pl/regulamin-imprezy/. \n  \nBilety do nabycia: \npolskanockabaretowa.pl\, www.kupbilecik.pl\, RCS w Lubinie ( SQUASH)
URL:https://agencjasolo.pl/wydarzenie/polska-noc-kabaretowa-2025-2/
LOCATION:dolnośląskie
CATEGORIES:ARCHIWALNE - KABARET
ATTACH;FMTTYPE=image/jpeg:https://agencjasolo.pl/wp-content/uploads/2025/03/PNK2025_plakat.jpg
ORGANIZER;CN="Agencja Koncertowo-Wydawnicza SOLO Aleksandra G%C5%82ownia":MAILTO:aglownia@agencjasolo.pl
END:VEVENT
END:VCALENDAR