BEGIN:VCALENDAR
VERSION:2.0
PRODID:-//Agencja koncertowo-wydawnicza SOLO - ECPv6.7.0//NONSGML v1.0//EN
CALSCALE:GREGORIAN
METHOD:PUBLISH
X-ORIGINAL-URL:https://agencjasolo.pl
X-WR-CALDESC:Wydarzenia dla Agencja koncertowo-wydawnicza SOLO
REFRESH-INTERVAL;VALUE=DURATION:PT1H
X-Robots-Tag:noindex
X-PUBLISHED-TTL:PT1H
BEGIN:VTIMEZONE
TZID:UTC
BEGIN:STANDARD
TZOFFSETFROM:+0000
TZOFFSETTO:+0000
TZNAME:UTC
DTSTART:20250101T000000
END:STANDARD
END:VTIMEZONE
BEGIN:VEVENT
DTSTART;TZID=UTC:20251231T200000
DTEND;TZID=UTC:20251231T223000
DTSTAMP:20260420T180834
CREATED:20251023T173303Z
LAST-MODIFIED:20260130T104341Z
UID:994-1767211200-1767220200@agencjasolo.pl
SUMMARY:Koncert Sylwestrowy BUENOS AIRES TANGO SHOW
DESCRIPTION:Agencja SOLO\, zaprasza na wyjątkowy wieczór sylwestrowy  „BUENOS AIRES TANGO SHOW “\,  podczas którego będzie można usłyszeć porywające argentyńskie utwory Osvaldo Pugliese\, Astora Piazzolli\, czy Carlosa Gardela\, wykonywane w sposób nawiązujący do tradycji tanga i jego korzeni południowoamerykańskich. \nSoliści  wykonają  najpiękniejszych pieśni Złotej Ery Tanga. Natomiast niesamowite tangowo-transowe hity z repertuaru Grace Jones\, czy Sarah Vaughan usłyszymy w wykonaniu znakomitej Anny Ozner . Bogate wizualizacje i strofy argentyńskiego wybitnego poety Jorge Luisa Borgesa przeniosą nas wszystkich do portowych dzielnic stolicy tanga – Boskiego Buenos Aires. W repertuarze znajdą się największe przeboje tanga argentyńskiego (np. Cumparsita\, El Choclo\, Por una Cabeza)\, kompozycje Astora Piazzolli (np. Maria de Buenos Aires\, Otoño Porteño\, Libertango) oraz kompozycje własne. \nWystąpią: \nMaciej MIECZNIKOWSKI\, Janusz RADEK\, Anna OZNER\, Tadeusz WNUK \, Katarzyna BARAN\, Jakub GŁUKOWSKI oraz zespół Tango Attack w składzie: Grzegorz Bożewicz – bandoneon\, Piotr Malicki – gitara\, Hadrian Tabęcki – fortepian \nNad całością muzyczną przedsięwzięcia czuwać będzie  Hadrian Filip Tabęcki (film “Lejdis”\, Opera “Dzień Świra”\, czy Rockopera “Krzyżacy”) oraz członkowie zespołu Tango Attack  – uznani muzycy z szerokim doświadczeniem w tematyce tanga argentyńskiego. Tango Attack łączy tradycję tanga argentyńskiego z nowoczesnymi eksperymentami brzmieniowymi. Muzycy proponują słuchaczom  porywające argentyńskie tanga w nowych interpretacjach\, a jednocześnie atmosferę roztańczonych uliczek portowych\, muzykę największych mistrzów tanga na świecie oraz poezję argentyńską w znakomitych tłumaczeniach. \nPatronat honorowy nad koncertem objął Prezydent Miasta Jeleniej Góry Jerzy Łużniak. \nPartnerem koncertu jest Teatr im. C .K. Norwida w Jeleniej Górze. \nHarmonogram wydarzenia:\ngodz. 20:00 – koncert I cz.\ngodz. 20:45 – przerwa na szampana\ngodz. 21:15 – koncert II cz.\ngodz: 22:00 – zakończenie \nBilety do nabycia:\n– www.kupbilecik.pl\,\n– www.kulturairozrywka.pl\,\n– kasa Teatru Norwida w Jeleniej Górze
URL:https://agencjasolo.pl/wydarzenie/koncert-sylwestrowy-buenos-aires-tango-show/
LOCATION:Teatr im. Cypriana Kamila Norwida w Jeleniej Górze\, Al. Wojska Polskiego 38\, Jelenia Góra\, dolnośląskie\, 58-500\, Polska
CATEGORIES:ARCHIWALNE - KONCERT
ATTACH;FMTTYPE=image/jpeg:https://agencjasolo.pl/wp-content/uploads/2025/10/WIECZOR-SYLWESTROWY.jpg
ORGANIZER;CN="Agencja Koncertowo-Wydawnicza SOLO Aleksandra G%C5%82ownia":MAILTO:aglownia@agencjasolo.pl
END:VEVENT
END:VCALENDAR