BEGIN:VCALENDAR
VERSION:2.0
PRODID:-//Agencja koncertowo-wydawnicza SOLO - ECPv6.7.0//NONSGML v1.0//EN
CALSCALE:GREGORIAN
METHOD:PUBLISH
X-WR-CALNAME:Agencja koncertowo-wydawnicza SOLO
X-ORIGINAL-URL:https://agencjasolo.pl
X-WR-CALDESC:Wydarzenia dla Agencja koncertowo-wydawnicza SOLO
REFRESH-INTERVAL;VALUE=DURATION:PT1H
X-Robots-Tag:noindex
X-PUBLISHED-TTL:PT1H
BEGIN:VTIMEZONE
TZID:UTC
BEGIN:STANDARD
TZOFFSETFROM:+0000
TZOFFSETTO:+0000
TZNAME:UTC
DTSTART:20260101T000000
END:STANDARD
END:VTIMEZONE
BEGIN:VEVENT
DTSTART;TZID=UTC:20260309T180000
DTEND;TZID=UTC:20260309T193000
DTSTAMP:20260420T122522
CREATED:20260302T180653Z
LAST-MODIFIED:20260415T142503Z
UID:1014-1773079200-1773084600@agencjasolo.pl
SUMMARY:"Koncert dla NAJ"  z okazji Dnia Kobiet
DESCRIPTION:Serdecznie zapraszamy na wyjątkowe wydarzenie artystyczne z okazji Międzynarodowego Dnia Kobiet – „Koncert dla NAJ”\, który odbędzie się w poniedziałek\, 9 marca  o godz. 18:00\, w sali koncertowej Filharmonii Dolnośląskiej w Jeleniej Górze. \nMiędzynarodowy Dzień Kobiet to święto o szczególnym znaczeniu – to czas refleksji nad rolą kobiet w życiu społecznym\, kulturalnym i gospodarczym\, a także moment\, w którym możemy wyrazić wdzięczność za ich codzienny trud\, pasję oraz determinację. To dzień\, w którym podkreślamy\, jak ogromny wkład kobiety wnoszą w rozwój regionu\, budowanie wspólnoty oraz kształtowanie lokalnej tożsamości.  \n„Koncert dla NAJ” to artystyczny hołd dla kobiet – tych\, które z oddaniem i konsekwencją działają na rzecz Dolnego Śląska\, rozwijają kulturę\, wspierają inicjatywy społeczne\, budują lokalną gospodarkę i inspirują kolejne pokolenia. To również forma uhonorowania kobiet\, które swoją pracą\, zaangażowaniem i determinacją przyczyniają się do sukcesu regionu i miasta. \nTego wyjątkowego wieczoru na scenie wystąpią znakomici artyści polskiej sceny muzycznej i teatralnej: Dorota Miśkiewicz\, Mariusz Kiljan\, Łukasz Rybarski\, Kazimierz Pichlak oraz Jacek Szreniawa wraz z zespołem. Artyści zapewnią publiczności niezapomniane muzyczne przeżycia – pełne emocji\, wzruszeń i radości. \n„Koncert dla NAJ” będzie nie tylko wydarzeniem artystycznym na najwyższym poziomie\, ale przede wszystkim symbolicznym wyrazem uznania i wdzięczności dla kobiet\, które każdego dnia zmieniają naszą rzeczywistość na lepszą. \nZapraszamy do wspólnego świętowania tego wyjątkowego dnia w atmosferze muzyki\, piękna i inspiracji. \nJednoosobowe zaproszenia na koncert można odebrać w kasie Filharmonii  Dolnośląskiej w Jeleniej Górze (w godzinach pracy Filharmonii). \nPATRONATY HONOROWE:\nPrzewodniczący Sejmiku Województwa Dolnośląskiego  Jerzy Pokój\nCzłonek Zarządu Województwa Dolnośląskiego  Jarosław Rabczenko\nPrezydent Miasta Jeleniej Góry  Jerzy Łużniak \nPARTNERZY: \nKoleje Dolnośląskie S. A. \,\nPrzedsiębiorstwo Wodociągów i Kanalizacji “WODNIK ” Sp. z o.o. \nORGANIZATOR:\nAgencja Koncertowo-Wydawnicza SOLO \nWSPÓŁORGANIZATOR:\nOśrodek Kultury i  Sztuki we Wrocławiu  – Instytucja Kultury Samorządu Wojewódzkiego Dolnośląskiego \nZAPRASZAMY SERDECZNIE 🙂
URL:https://agencjasolo.pl/wydarzenie/koncert-dla-naj-z-okazji-miedzynarodowego-dnia-kobiet/
LOCATION:Filharmonia Dolnośląska w Jeleniej Górze\, ul. Piłsudskiego 60\, Jelenia Góra\, Polska\, 58-500\, Polska
CATEGORIES:ARCHIWALNE - KONCERT
ATTACH;FMTTYPE=image/jpeg:https://agencjasolo.pl/wp-content/uploads/2026/03/Dzien_Kobiet_2026_Agencja_SOLO.jpg
ORGANIZER;CN="Agencja Koncertowo-Wydawnicza SOLO Aleksandra G%C5%82ownia":MAILTO:aglownia@agencjasolo.pl
END:VEVENT
BEGIN:VEVENT
DTSTART;TZID=UTC:20260330T190000
DTEND;TZID=UTC:20260330T203000
DTSTAMP:20260420T122522
CREATED:20260325T150833Z
LAST-MODIFIED:20260415T142433Z
UID:1026-1774897200-1774902600@agencjasolo.pl
SUMMARY:Jelenia Góra_Koncert pasyjny  " Siedem ostatnich słów Chrystusa na krzyżu "
DESCRIPTION:Okres Wielkiej Nocy\, czyli świąt upamiętniających zmartwychwstanie Jezusa Chrystusa\, jest bardzo ważny w tradycji chrześcijańskiej. To czas refleksji nad cierpieniem\, śmiercią i zwycięstwem życia nad śmiercią. Wydarzenia te opisane są w Biblii i stanowią fundament wiary chrześcijan. Wielkanoc symbolizuje nadzieję\, odrodzenie oraz nowy początek. Poprzedza ją Wielki Post – okres przygotowania duchowego\, a kulminacją jest Triduum Paschalne. Dla wielu osób to także czas spotkań rodzinnych\, pielęgnowania tradycji oraz wzmacniania więzi z bliskimi. Dzięki temu Wielkanoc ma nie tylko wymiar religijny\, ale również kulturowy i społeczny. \nPodczas koncertu zabrzmi jedno z najbardziej poruszających dzieł w historii muzyki sakralnej. Kompozycja Haydna składa się z siedmiu powolnych części – sonat\, poprzedzonych Introdukcją i zakończonych dramatycznym finałem „Il Terremoto” („Trzęsienie ziemi”). Każda część nawiązuje do jednej z ostatnich fraz wypowiedzianych przez Jezusa Chrystusa na krzyżu. Muzyka prowadzi słuchacza przez kolejne etapy pasyjnej refleksji – od przebaczenia i nadziei\, poprzez cierpienie i ludzką słabość\, aż po zawierzenie i ciszę\, która zapowiada nowe życie.\nKoncert będzie miał szczególną formę – pomiędzy kolejnymi częściami utworu wybrzmią fragmenty narracji odnoszące się do ewangelicznych słów Chrystusa. Dzięki temu publiczność będzie mogła nie tylko wysłuchać muzyki\, ale również głębiej przeżyć sens i przesłanie tego wyjątkowego dzieła.  Jest zaproszeniem do zatrzymania się w codziennym biegu i przeżycia chwili skupienia. Muzyka Haydna nie tylko porusza emocje\, ale prowadzi do wewnętrznej refleksji i kontemplacji. \nNa scenie wystąpią znakomici artyści. Narrację poprowadzi ceniony aktor Zbigniew Zamachowski\, który nada wydarzeniu szczególny\, refleksyjny charakter. Warstwę muzyczną zapewni Orkiestra smyczkowa Filharmonii Dolnośląskiej w Jeleniej Górze pod batutą Marka Wroniszewskiego. Całość wydarzenia poprowadzi Tadeusz Wnuk. \n \nTo niepowtarzalna okazja\, by usłyszeć arcydzieło muzyki klasycznej w interpretacji znakomitych artystów i wspólnie przeżyć moment  muzycznej zadumy. \nWstęp na wydarzenie jest bezpłatny. 
URL:https://agencjasolo.pl/wydarzenie/koncert-pasyjny-siedem-ostatnich-slow-chrystusa-na-krzyzu/
LOCATION:Kościół Garnizonowy – Parafia Podwyższenia Krzyża Świętego w Jeleniej Górze\, 1 Maja 45\, Jelenia Góra\, dolnośląskie\, 58-500\, Polska
CATEGORIES:ARCHIWALNE - KONCERT
ATTACH;FMTTYPE=image/jpeg:https://agencjasolo.pl/wp-content/uploads/2026/03/Koncert_Pasyjny_Jelenia-Gora.jpg
ORGANIZER;CN="Agencja Koncertowo-Wydawnicza SOLO Aleksandra G%C5%82ownia":MAILTO:aglownia@agencjasolo.pl
END:VEVENT
END:VCALENDAR